BEGIN:VCALENDAR
VERSION:2.0
PRODID:-//Tukios.com/
BEGIN:VEVENT
UID:71f12e35-cea7-4a35-8a64-584787348e81@www.olivercheekfuneralhome.com
DTSTAMP:20260420T193933Z
DTSTART:20260425T190000Z
DTEND:20260425T220000Z
SUMMARY:Visitation
DESCRIPTION:
URL:https://www.olivercheekfuneralhome.com/obituaries/marvin-carrel-jr
LOCATION:Oliver-Cheek Funeral Home 420 W Main St  Ashville OH 43103
GEO:39.7137697;-82.9637602
END:VEVENT
END:VCALENDAR