BEGIN:VCALENDAR
VERSION:2.0
PRODID:-//Tukios.com/
BEGIN:VEVENT
UID:e5973791-a897-4239-b2e2-ccb9271c7aab@www.olivercheekfuneralhome.com
DTSTAMP:20260420T193933Z
DTSTART:20260425T220000Z
DTEND:20260425T230000Z
SUMMARY:Funeral Service
DESCRIPTION:
URL:https://www.olivercheekfuneralhome.com/obituaries/marvin-carrel-jr
LOCATION:Oliver-Cheek Funeral Home 420 W Main St  Ashville OH 43103
GEO:39.7137697;-82.9637602
END:VEVENT
END:VCALENDAR